BEGIN:VCALENDAR
VERSION:2.0
PRODID:icalendar-ruby
CALSCALE:GREGORIAN
METHOD:PUBLISH
BEGIN:VEVENT
DTSTAMP:20260419T233647Z
UID:20-203482@kbwaphilly.com
DTSTART:20260816T173000Z
DTEND:20260816T193000Z
CLASS:PUBLIC
CREATED:20260419T133256
DESCRIPTION:
LAST-MODIFIED:20260419T133256
LOCATION:1019 Ridge Ave Darby\, PA 19023
SUMMARY:Sunday Worship
URL;VALUE=URI:https://www.kbwaphilly.com/events/sunday-worship/2026-08-16
ATTACH;FILENAME=Temporary-Location-1019-Ridge-Ave-Darby-PA-19023.png;FMTTYP
 E=image/png:https://dq5pwpg1q8ru0.cloudfront.net/2026/01/22/00/44/27/d5752
 f9b-5aea-4870-a765-42933e990af0/Temporary-Location-1019-Ridge-Ave-Darby-PA
 -19023.png
END:VEVENT
END:VCALENDAR
